BEGIN:VCALENDAR
VERSION:2.0
PRODID:-//ChamberMaster//Event Calendar 2.0//EN
METHOD:PUBLISH
X-PUBLISHED-TTL:P3D
REFRESH-INTERVAL:P3D
CALSCALE:GREGORIAN
BEGIN:VEVENT
DTSTART;VALUE=DATE:20080912
DTEND;VALUE=DATE:20080915
TRANSP:TRANSPARENT
X-MICROSOFT-CDO-ALLDAYEVENT:TRUE
SUMMARY:Heroes of Speed
DESCRIPTION:Historic Sportscar Racing
X-ALT-DESC;FMTTYPE=text/html:Historic Sportscar Racing
LOCATION:Miller Motorsports Park
UID:e.125.224
SEQUENCE:3
DTSTAMP:20260424T122934Z
URL:https://members.tooelechamber.com/events/details/heroes-of-speed-09-12-2008-224
END:VEVENT

END:VCALENDAR
