BEGIN:VCALENDAR
VERSION:2.0
PRODID:-//ChamberMaster//Event Calendar 2.0//EN
METHOD:PUBLISH
X-PUBLISHED-TTL:P3D
REFRESH-INTERVAL:P3D
CALSCALE:GREGORIAN
BEGIN:VEVENT
DTSTART;VALUE=DATE:20090821
DTEND;VALUE=DATE:20090822
TRANSP:TRANSPARENT
X-MICROSOFT-CDO-ALLDAYEVENT:TRUE
SUMMARY:High School Sports Medicine Golf Classic
DESCRIPTION:High School Sports Medicine Golf ClassicSponsored by:Mountain Land Physical Therapy and Mountain West Medical CenterAugust 21\, 2009Oquirrh Hills Golf CourseFor more info call: (435)843-7466
X-ALT-DESC;FMTTYPE=text/html:<div><b><font size="3"><p style="text-align: center"><span id="1249489686408S" style="display: none">&nbsp\;</span>High School Sports Medicine Golf Classic</p></font><font face="Myriad Roman\,Myriad Roman" size="2"><font face="Myriad Roman\,Myriad Roman" size="2"><p style="text-align: center">Sponsored by:</p><p style="text-align: center">Mountain Land Physical Therapy and Mountain West Medical Center</p><p style="text-align: center">August 21\, 2009</p><p style="text-align: center">Oquirrh Hills Golf Course</p><p style="text-align: center">For more info call: (435)843-7466<span id="1249489686831E" style="display: none">&nbsp\;</span></p></font></font></b></div>
LOCATION:
UID:e.125.2559
SEQUENCE:3
DTSTAMP:20260423T182031Z
URL:https://members.tooelechamber.com/events/details/high-school-sports-medicine-golf-classic-08-21-2009-2559
END:VEVENT

END:VCALENDAR
