BEGIN:VCALENDAR
VERSION:2.0
PRODID:-//ChamberMaster//Event Calendar 2.0//EN
METHOD:PUBLISH
X-PUBLISHED-TTL:P3D
REFRESH-INTERVAL:P3D
CALSCALE:GREGORIAN
BEGIN:VEVENT
DTSTART:20110408T010000Z
DTEND:20110412T010000Z
X-MICROSOFT-CDO-ALLDAYEVENT:FALSE
SUMMARY:Honk! Jr.
DESCRIPTION:Honk! Jr. is a show that is perfect for all audiences. Based on The Ugly Duckling\, it is about love\, acceptance\, and ultimately that being different is ok. Full of great music\, dancing\, and a wonderful message\, it's entertainment for all ages.
X-ALT-DESC;FMTTYPE=text/html:Honk! Jr. is a show that is perfect for all audiences. Based on The Ugly Duckling\, it is about love\, acceptance\, and ultimately that being different is ok. Full of great music\, dancing\, and a wonderful message\, it&#39\;s entertainment for all ages.<br />\n<br />\n
LOCATION:Clarke Johnsen Jr. High 2152 N 400 W
UID:e.125.3649
SEQUENCE:3
DTSTAMP:20260422T104208Z
URL:https://members.tooelechamber.com/events/details/honk-jr-04-07-2011-3649
END:VEVENT

END:VCALENDAR
