BEGIN:VCALENDAR
VERSION:2.0
PRODID:-//ChamberMaster//Event Calendar 2.0//EN
METHOD:PUBLISH
X-PUBLISHED-TTL:P3D
REFRESH-INTERVAL:P3D
CALSCALE:GREGORIAN
BEGIN:VEVENT
DTSTART;VALUE=DATE:20080328
DTEND;VALUE=DATE:20080331
TRANSP:TRANSPARENT
X-MICROSOFT-CDO-ALLDAYEVENT:TRUE
SUMMARY:Icebreaker Kart Championship Round 1
DESCRIPTION:Miller Motorsports ParkIcebreaker Kart Championship Round 1
X-ALT-DESC;FMTTYPE=text/html:<div>Miller Motorsports Park</div><div>Icebreaker Kart Championship Round 1</div>
LOCATION:Miller Motorsports Park2901 N Sheep Lane\, Tooele
UID:e.125.238
SEQUENCE:3
DTSTAMP:20260424T232249Z
URL:https://members.tooelechamber.com/events/details/icebreaker-kart-championship-round-1-03-28-2008-238
END:VEVENT

END:VCALENDAR
