BEGIN:VCALENDAR
VERSION:2.0
PRODID:-//ChamberMaster//Event Calendar 2.0//EN
METHOD:PUBLISH
X-PUBLISHED-TTL:P3D
REFRESH-INTERVAL:P3D
CALSCALE:GREGORIAN
BEGIN:VEVENT
DTSTART;VALUE=DATE:20080509
DTEND;VALUE=DATE:20080512
TRANSP:TRANSPARENT
X-MICROSOFT-CDO-ALLDAYEVENT:TRUE
SUMMARY:Icebreaker Kart Championship Round 5
DESCRIPTION:Icebreaker Kart Championship Round 5
X-ALT-DESC;FMTTYPE=text/html:<div>Icebreaker Kart Championship Round 5</div>
LOCATION:Miller Motorsports Park2901 N. Sheep LaneTooele
UID:e.125.257
SEQUENCE:3
DTSTAMP:20260424T185418Z
URL:https://members.tooelechamber.com/events/details/icebreaker-kart-championship-round-5-05-09-2008-257
END:VEVENT

END:VCALENDAR
