BEGIN:VCALENDAR
VERSION:2.0
PRODID:-//ChamberMaster//Event Calendar 2.0//EN
METHOD:PUBLISH
X-PUBLISHED-TTL:P3D
REFRESH-INTERVAL:P3D
CALSCALE:GREGORIAN
BEGIN:VEVENT
DTSTART:20100616T233000Z
DTEND:20100617T010000Z
X-MICROSOFT-CDO-ALLDAYEVENT:FALSE
SUMMARY:Informational Meeting
DESCRIPTION:Earn a Master of Science in Human Resources while working full time Develop critical business skills in leadership and learn how to engage people in organizations Informational meeting Wednesday\, June 16\, 2010 from 5:30-7pm at your local USU campus 1021 West Vine Street\, Tooele Any questions contact Brad Winn @ (435)851-2002
X-ALT-DESC;FMTTYPE=text/html:<div style="text-align: center"><span style="font-size: large">Earn a Master of Science in Human Resources </span></div><div style="text-align: center"><span style="font-size: large">while working full time </span></div><div style="text-align: center"><span style="font-size: large">Develop critical business skills in leadership and learn how to engage people in organizations </span></div><div style="text-align: center"><u><strong><span style="font-size: large">Informational meeting </span></strong></u></div><div style="text-align: center"><span style="font-size: large">Wednesday\, June 16\, 2010 from 5:30-7pm </span></div><div style="text-align: center"><span style="font-size: large">at your local USU campus </span></div><div style="text-align: center"><span style="font-size: large">1021 West Vine Street\, Tooele </span></div><div style="text-align: center"><span style="font-size: large">Any questions contact Brad Winn </span></div><div style="text-align: center"><span style="font-size: large">@ </span><span style="font-size: large">(435)851-2002</span></div><div>&nbsp\;</div>
LOCATION:
UID:e.125.3189
SEQUENCE:3
DTSTAMP:20260423T032325Z
URL:https://members.tooelechamber.com/events/details/informational-meeting-06-16-2010-3189
END:VEVENT

END:VCALENDAR
