BEGIN:VCALENDAR
VERSION:2.0
PRODID:-//ChamberMaster//Event Calendar 2.0//EN
METHOD:PUBLISH
X-PUBLISHED-TTL:P3D
REFRESH-INTERVAL:P3D
CALSCALE:GREGORIAN
BEGIN:VEVENT
DTSTART:20140509T040000Z
DTEND:20140509T050000Z
X-MICROSOFT-CDO-ALLDAYEVENT:FALSE
SUMMARY:Japanese Culture Story-Time
DESCRIPTION:-for all ages\nThis special story-time will include:\nStories about the Japanese culture.\nA few words taught of the Japanese language \nCraft: Japanese paper lantern
X-ALT-DESC;FMTTYPE=text/html:-for all ages\nThis special story-time will include:\nStories about the Japanese culture.\nA few words taught of the Japanese language \nCraft: Japanese paper lantern
LOCATION:
UID:e.125.5470
SEQUENCE:3
DTSTAMP:20260419T201138Z
URL:https://members.tooelechamber.com/events/details/japanese-culture-story-time-05-08-2014-5470
END:VEVENT

END:VCALENDAR
