BEGIN:VCALENDAR
VERSION:2.0
PRODID:-//ChamberMaster//Event Calendar 2.0//EN
METHOD:PUBLISH
X-PUBLISHED-TTL:P3D
REFRESH-INTERVAL:P3D
CALSCALE:GREGORIAN
BEGIN:VEVENT
DTSTART:20110804T150000Z
DTEND:20110804T173000Z
X-MICROSOFT-CDO-ALLDAYEVENT:FALSE
SUMMARY:Job Searching With Technology
DESCRIPTION:Job Searching With Technology:(Prerequisite: Computer skills AND an active jobs.utah.gov registration.) Learn advanced job search techniques. Find the best commercial job sites\, publish resumes online\, and research companies\n\n	Community Learning Center\n\n	211 South Tooele Blvd\, Room #201\n\n	Register today!\n\n	NO COST!!
X-ALT-DESC;FMTTYPE=text/html:<p style="text-align: center">\n	&nbsp\;</p>\n<p style="text-align: center">\n	<b><font size="4">Job Searching With Technology</font></b><font face="Arial\,Arial" size="4"><font face="Arial\,Arial" size="4">:</font></font><i><font face="Times New Roman\,Times New Roman" size="2"><font face="Times New Roman\,Times New Roman" size="2">(Prerequisite: Computer skills AND an active jobs.utah.gov registration.) </font></font></i><font face="Arial\,Arial" size="3"><font face="Arial\,Arial" size="3">Learn advanced job search techniques. Find the best commercial job sites\, publish resumes online\, and research companies<br />\n	Community Learning Center<br />\n	211 South Tooele Blvd\, Room #201<br />\n	Register today!<br />\n	NO COST!!</font></font></p>\n<font face="Arial\,Arial" size="3"><font face="Arial\,Arial" size="3"><span _fck_bookmark="1" style="display: none">&nbsp\;</span></font></font>
LOCATION:
UID:e.125.3864
SEQUENCE:3
DTSTAMP:20260422T043533Z
URL:https://members.tooelechamber.com/events/details/job-searching-with-technology-08-04-2011-3864
END:VEVENT

END:VCALENDAR
