BEGIN:VCALENDAR
VERSION:2.0
PRODID:-//ChamberMaster//Event Calendar 2.0//EN
METHOD:PUBLISH
X-PUBLISHED-TTL:P3D
REFRESH-INTERVAL:P3D
CALSCALE:GREGORIAN
BEGIN:VEVENT
DTSTART:20090326T000000Z
DTEND:20090326T020000Z
X-MICROSOFT-CDO-ALLDAYEVENT:FALSE
SUMMARY:Jon Schmidt in Concert
DESCRIPTION:Jon Schmidt in Concert Wednesday\, March 25th\, 20096 pm & 8 pmStowe Family Music Concert Hall40 North Main\, TooeleGeneral Admission Tickets $5Doors ope 30 minutes before performance For tickets or more information contactStowe Family Music40 North Main\, Tooele435-833-9500
X-ALT-DESC;FMTTYPE=text/html:<div align="center"><font size="4">Jon Schmidt </font></div><div align="center"><font size="4">in Concert</font></div><div align="center">&nbsp\;</div><div align="center"><font size="4">Wednesday\, March 25th\, 2009</font></div><div align="center"><font size="4">6 pm &amp\; 8 pm</font></div><div align="center"><font size="4">Stowe Family Music Concert Hall</font></div><div align="center"><font size="4">40 North Main\, Tooele</font></div><div align="center"><font size="4">General Admission Tickets $5</font></div><div align="center"><font size="4">Doors ope 30 minutes before performance</font></div><div align="center">&nbsp\;</div><div align="center"><font size="4">For tickets or more information contact</font></div><div align="center"><font size="4">Stowe Family Music</font></div><div align="center"><font size="4">40 North Main\, Tooele</font></div><div align="center"><font size="4">435-833-9500</font></div>
LOCATION:
UID:e.125.548
SEQUENCE:3
DTSTAMP:20260424T040105Z
URL:https://members.tooelechamber.com/events/details/jon-schmidt-in-concert-03-25-2009-548
END:VEVENT

END:VCALENDAR
