BEGIN:VCALENDAR
VERSION:2.0
PRODID:-//ChamberMaster//Event Calendar 2.0//EN
METHOD:PUBLISH
X-PUBLISHED-TTL:P3D
REFRESH-INTERVAL:P3D
CALSCALE:GREGORIAN
BEGIN:VEVENT
DTSTART:20100902T233000Z
DTEND:20100903T003000Z
X-MICROSOFT-CDO-ALLDAYEVENT:FALSE
SUMMARY:Jon Schmidt in Concert
DESCRIPTION:Stowe's Family Music Presents:Jon Schmidt in Concert Thursday\, September 2\, 2010 @ 5:30pmStowe's Family Music 40 North Main Street\, TooeleGeneral Admission Tickets for $6 are being sold at Stowe's
X-ALT-DESC;FMTTYPE=text/html:<div style="text-align: center"><strong><u><span style="font-size: large">Stowe's Family Music Presents:</span></u></strong></div><div style="text-align: center"><span style="font-size: large">Jon Schmidt in Concert </span></div><div style="text-align: center"><span style="font-size: large">Thursday\, September 2\, 2010 @ 5:30pm</span></div><div style="text-align: center"><span style="font-size: large">Stowe's Family Music </span></div><div style="text-align: center"><span style="font-size: large">40 North Main Street\, Tooele</span></div><div style="text-align: center"><span style="font-size: large">General Admission Tickets for $6 are being sold at Stowe's </span></div>
LOCATION:
UID:e.125.3236
SEQUENCE:3
DTSTAMP:20260422T220035Z
URL:https://members.tooelechamber.com/events/details/jon-schmidt-in-concert-09-02-2010-3236
END:VEVENT

END:VCALENDAR
