BEGIN:VCALENDAR
VERSION:2.0
PRODID:-//ChamberMaster//Event Calendar 2.0//EN
METHOD:PUBLISH
X-PUBLISHED-TTL:P3D
REFRESH-INTERVAL:P3D
CALSCALE:GREGORIAN
BEGIN:VEVENT
DTSTART:20140718T060000Z
DTEND:20140718T070000Z
X-MICROSOFT-CDO-ALLDAYEVENT:FALSE
SUMMARY:Jr Livestock Show
DESCRIPTION:Todd Agard  435-884-6524
X-ALT-DESC;FMTTYPE=text/html:Todd Agard  435-884-6524
LOCATION:
UID:e.125.5469
SEQUENCE:3
DTSTAMP:20260419T142853Z
URL:https://members.tooelechamber.com/events/details/jr-livestock-show-07-18-2014-5469
END:VEVENT

END:VCALENDAR
