BEGIN:VCALENDAR
VERSION:2.0
PRODID:-//ChamberMaster//Event Calendar 2.0//EN
METHOD:PUBLISH
X-PUBLISHED-TTL:P3D
REFRESH-INTERVAL:P3D
CALSCALE:GREGORIAN
BEGIN:VEVENT
DTSTART:20131018T010000Z
DTEND:20131018T030000Z
X-MICROSOFT-CDO-ALLDAYEVENT:FALSE
SUMMARY:Justice Night Court
DESCRIPTION:Please arrive 15 minutes prior for counsel.
X-ALT-DESC;FMTTYPE=text/html:Please arrive 15 minutes prior for counsel.
LOCATION:Town Hall
UID:e.125.5707
SEQUENCE:3
DTSTAMP:20260420T075802Z
URL:https://members.tooelechamber.com/events/details/justice-night-court-10-17-2013-5707
END:VEVENT

END:VCALENDAR
