BEGIN:VCALENDAR
VERSION:2.0
PRODID:-//ChamberMaster//Event Calendar 2.0//EN
METHOD:PUBLISH
X-PUBLISHED-TTL:P3D
REFRESH-INTERVAL:P3D
CALSCALE:GREGORIAN
BEGIN:VEVENT
DTSTART:20110630T210000Z
DTEND:20110701T010000Z
X-MICROSOFT-CDO-ALLDAYEVENT:FALSE
SUMMARY:Karaoke
DESCRIPTION:Karaoke\n\n	Thursday\, June 30\, 2011\n\n	3-6pm open microphone\n\n	6pm Karaoke contest\n\n	Tooele City Park\n\n	200 Wes Vine Street\, Tooele\n\n	All those wishing to participate should pre-register by calling Ron Baum 435-843-3584
X-ALT-DESC;FMTTYPE=text/html:<p style="text-align: center">\n	<span style="font-size: 26px">Karaoke<br />\n	Thursday\, June 30\, 2011<br />\n	3-6pm open microphone<br />\n	6pm Karaoke contest<br />\n	Tooele City Park<br />\n	200 Wes Vine Street\, Tooele<br />\n	All those wishing to participate should pre-register by calling Ron Baum 435-843-3584</span></p>\n
LOCATION:
UID:e.125.3710
SEQUENCE:3
DTSTAMP:20260422T073703Z
URL:https://members.tooelechamber.com/events/details/karaoke-06-30-2011-3710
END:VEVENT

END:VCALENDAR
