BEGIN:VCALENDAR
VERSION:2.0
PRODID:-//ChamberMaster//Event Calendar 2.0//EN
METHOD:PUBLISH
X-PUBLISHED-TTL:P3D
REFRESH-INTERVAL:P3D
CALSCALE:GREGORIAN
BEGIN:VEVENT
DTSTART:20111019T180000Z
DTEND:20111019T190000Z
X-MICROSOFT-CDO-ALLDAYEVENT:FALSE
SUMMARY:Keep Track and Manage Computer Passwords
DESCRIPTION:Mini-Lesson\n\n	Lunch N Learn Series\n\n	Presented by: Tooele Applied Technology College\n\n	66 West Vine Street\, Tooele\n\n	Free to the public\, includes pizza lunch!\n\n	Limited seating\, RSVP's accepted for accurate lunch count\n\n	 Keep Track and Manage Computer Passwords with Jay Olson\n\n	Learn to keep track of your numerous passwords using a password manager software.
X-ALT-DESC;FMTTYPE=text/html:<p style="text-align: center">\n	<span style="font-size: 18px">Mini-Lesson<br />\n	Lunch N Learn Series<br />\n	Presented by: Tooele Applied Technology College<br />\n	66 West Vine Street\, Tooele<br />\n	Free to the public\, includes pizza lunch!<br />\n	Limited seating\, RSVP&#39\;s accepted for accurate lunch count<br />\n	<span _fck_bookmark="1" style="display: none">&nbsp\;</span>Keep Track and Manage Computer Passwords with Jay Olson<br />\n	Learn to keep track of your numerous passwords using a password manager software.</span></p>\n
LOCATION:
UID:e.125.3592
SEQUENCE:3
DTSTAMP:20260422T011330Z
URL:https://members.tooelechamber.com/events/details/keep-track-and-manage-computer-passwords-10-19-2011-3592
END:VEVENT

END:VCALENDAR
