BEGIN:VCALENDAR
VERSION:2.0
PRODID:-//ChamberMaster//Event Calendar 2.0//EN
METHOD:PUBLISH
X-PUBLISHED-TTL:P3D
REFRESH-INTERVAL:P3D
CALSCALE:GREGORIAN
BEGIN:VEVENT
DTSTART:20090221T210000Z
DTEND:20090221T210000Z
X-MICROSOFT-CDO-ALLDAYEVENT:FALSE
SUMMARY:Kids Love Authors
DESCRIPTION:Kids Love AuthorsThe Purple Cow Bookstore992 No. Main\, TooeleSaturday\, February 21st - 2 pmCome meet Author Justin Coleand Illustrator Laramie Dunn of Wet\, Bird-Feather Bread!
X-ALT-DESC;FMTTYPE=text/html:<div align="center"><font size="4">Kids Love Authors</font></div><div align="center"><font size="4">The Purple Cow Bookstore</font></div><div align="center"><font size="4">992 No. Main\, Tooele</font></div><div align="center"><font size="4">Saturday\, February 21st - 2 pm</font></div><div align="center"><font size="4">Come meet Author Justin Cole</font></div><div align="center"><font size="4">and Illustrator Laramie Dunn of </font></div><div align="center"><font size="4">Wet\, Bird-Feather Bread!</font></div>
LOCATION:
UID:e.125.526
SEQUENCE:3
DTSTAMP:20260424T041204Z
URL:https://members.tooelechamber.com/events/details/kids-love-authors-02-21-2009-526
END:VEVENT

END:VCALENDAR
