BEGIN:VCALENDAR
VERSION:2.0
PRODID:-//ChamberMaster//Event Calendar 2.0//EN
METHOD:PUBLISH
X-PUBLISHED-TTL:P3D
REFRESH-INTERVAL:P3D
CALSCALE:GREGORIAN
BEGIN:VEVENT
DTSTART:20100910T143000Z
DTEND:20100910T180000Z
X-MICROSOFT-CDO-ALLDAYEVENT:FALSE
SUMMARY:Kiwanis Golf Tournament
DESCRIPTION:Kiwanis Golf Tournamet Friday\, September 10\, 2010 @ 8:30am Oquirrh Hills Golf Course 1255 East Vine Street\, Tooele $35 per person $50 Hole Sponsor $100 Lunch Sponsor Contact: Mike Fields @ 882-7306Sandy Critchlow with Prudential Real Estate @ 882-4111
X-ALT-DESC;FMTTYPE=text/html:<div style="text-align: center"><span style="font-size: large"><strong><u>Kiwanis Golf Tournamet </u></strong></span></div><div style="text-align: center"><span style="font-size: large">Friday\, September 10\, 2010 @ 8:30am </span></div><div style="text-align: center"><span style="font-size: large">Oquirrh Hills Golf Course </span></div><div style="text-align: center"><span style="font-size: large">1255 East Vine Street\, Tooele </span></div><div style="text-align: center"><span style="font-size: large">$35 per person </span></div><div style="text-align: center"><span style="font-size: large">$50 Hole Sponsor </span></div><div style="text-align: center"><span style="font-size: large">$100 Lunch Sponsor </span></div><div style="text-align: center"><span style="font-size: large">Contact: Mike Fields @ 882-7306</span></div><div style="text-align: center"><span style="font-size: large">Sandy Critchlow with </span></div><div style="text-align: center"><span style="font-size: large">Prudential Real Estate&nbsp\;@&nbsp\;882-4111</span></div>
LOCATION:
UID:e.125.3225
SEQUENCE:3
DTSTAMP:20260422T223515Z
URL:https://members.tooelechamber.com/events/details/kiwanis-golf-tournament-09-10-2010-3225
END:VEVENT

END:VCALENDAR
