BEGIN:VCALENDAR
VERSION:2.0
PRODID:-//ChamberMaster//Event Calendar 2.0//EN
METHOD:PUBLISH
X-PUBLISHED-TTL:P3D
REFRESH-INTERVAL:P3D
CALSCALE:GREGORIAN
BEGIN:VEVENT
DTSTART:20140614T010000Z
DTEND:20140614T040000Z
X-MICROSOFT-CDO-ALLDAYEVENT:FALSE
SUMMARY:LaForge Encore Theater Company presents "Peter Pan" at the THS Auditorium
DESCRIPTION:
X-ALT-DESC;FMTTYPE=text/html:
LOCATION:
UID:e.125.5110
SEQUENCE:3
DTSTAMP:20260419T163322Z
URL:https://members.tooelechamber.com/events/details/laforge-encore-theater-company-presents-peter-pan-at-the-ths-auditorium-06-13-2014-5110
END:VEVENT

END:VCALENDAR
