BEGIN:VCALENDAR
VERSION:2.0
PRODID:-//ChamberMaster//Event Calendar 2.0//EN
METHOD:PUBLISH
X-PUBLISHED-TTL:P3D
REFRESH-INTERVAL:P3D
CALSCALE:GREGORIAN
BEGIN:VEVENT
DTSTART;VALUE=DATE:20110430
DTEND;VALUE=DATE:20110502
TRANSP:TRANSPARENT
X-MICROSOFT-CDO-ALLDAYEVENT:TRUE
SUMMARY:Larry H. Miller Dealerships Utah Grand Prix
DESCRIPTION:The 2011 season at Miller Motorsports Park kicks off with the Larry H. Miller Dealerships Utah Grand Prix\, April 30 ? May 1! The racetrack will be rumbling with the NASCAR K&N Pro Series West\, plus the SCCA Pro Racing World Challenge and Trans-Am Championships\, the IMSA GT3 Challenge by Yokohama and the Pirelli USA Cup. Visit www.MillerMotorsportsPark.com for details!
X-ALT-DESC;FMTTYPE=text/html:The 2011 season at Miller Motorsports Park kicks off with the Larry H. Miller Dealerships Utah Grand Prix\, April 30 ? May 1! The racetrack will be rumbling with the NASCAR K&amp\;N Pro Series West\, plus the SCCA Pro Racing World Challenge and Trans-Am Championships\, the IMSA GT3 Challenge by Yokohama and the Pirelli USA Cup. Visit www.MillerMotorsportsPark.com for details!
LOCATION:Miller Motorsports Park
UID:e.125.3655
SEQUENCE:3
DTSTAMP:20260422T092525Z
URL:https://members.tooelechamber.com/events/details/larry-h-miller-dealerships-utah-grand-prix-04-30-2011-3655
END:VEVENT

END:VCALENDAR
