BEGIN:VCALENDAR
VERSION:2.0
PRODID:-//ChamberMaster//Event Calendar 2.0//EN
METHOD:PUBLISH
X-PUBLISHED-TTL:P3D
REFRESH-INTERVAL:P3D
CALSCALE:GREGORIAN
BEGIN:VEVENT
DTSTART;VALUE=DATE:20090515
DTEND;VALUE=DATE:20090518
TRANSP:TRANSPARENT
X-MICROSOFT-CDO-ALLDAYEVENT:TRUE
SUMMARY:Larry H. Miller Dealerships Utah Grand Prix American Le Mans Series
DESCRIPTION:The American Le Mans Series returns to Miller Motorsports Park with the most exotic\, high-tech sports cars on the planet. See the V10 diesel-powered\, 200mph Audi R10s take on the Porsche and Acura prototypes for championship points and bragging rights\, with some of the world's best drivers at the controls.
X-ALT-DESC;FMTTYPE=text/html:The American Le Mans Series returns to Miller Motorsports Park with the most exotic\, high-tech sports cars on the planet. See the V10 diesel-powered\, 200mph Audi R10s take on the Porsche and Acura prototypes for championship points and bragging rights\, with some of the world's best drivers at the controls.
LOCATION:Miller Motorsports Park
UID:e.125.491
SEQUENCE:3
DTSTAMP:20260423T232537Z
URL:https://members.tooelechamber.com/events/details/larry-h-miller-dealerships-utah-grand-prix-american-le-mans-series-05-15-2009-491
END:VEVENT

END:VCALENDAR
