BEGIN:VCALENDAR
VERSION:2.0
PRODID:-//ChamberMaster//Event Calendar 2.0//EN
METHOD:PUBLISH
X-PUBLISHED-TTL:P3D
REFRESH-INTERVAL:P3D
CALSCALE:GREGORIAN
BEGIN:VEVENT
DTSTART;VALUE=DATE:20140524
DTEND;VALUE=DATE:20140526
TRANSP:TRANSPARENT
X-MICROSOFT-CDO-ALLDAYEVENT:TRUE
SUMMARY:Library CLOSED
DESCRIPTION:Celebration of Memorial Day
X-ALT-DESC;FMTTYPE=text/html:Celebration of Memorial Day
LOCATION:
UID:e.125.5504
SEQUENCE:3
DTSTAMP:20260419T200652Z
URL:https://members.tooelechamber.com/events/details/library-closed-05-24-2014-5504
END:VEVENT

END:VCALENDAR
