BEGIN:VCALENDAR
VERSION:2.0
PRODID:-//ChamberMaster//Event Calendar 2.0//EN
METHOD:PUBLISH
X-PUBLISHED-TTL:P3D
REFRESH-INTERVAL:P3D
CALSCALE:GREGORIAN
BEGIN:VEVENT
DTSTART:20121215T170000Z
DTEND:20121215T190000Z
X-MICROSOFT-CDO-ALLDAYEVENT:FALSE
SUMMARY:Library Holiday Festival & Book Fair
DESCRIPTION:Library Holiday Festival & Book Fair.\n\n		\n\n		We are planning a library day of fun December 15 th at 10am at City Hall to support the new library. We will be having a special storytime reading by Mrs. Claus\, a holiday craft station\, a holiday game station and a wonderful book fair by Usborne Books. 50% of the proceeds from the sale of books go to the library and 50% of cash donations will be matched by\n	\n		Usborne books. Come to the book fair and get some of your holiday shopping done while supporting the library through the Usborne matching book program. If you are unable to attend the Library Holiday\n	\n		Festival and Book Fair you may shop online at www.learnersread.com event: Grantsville Library Fundraiser.\n\n		\n\n		We hope that you all will join us for this fun holiday festival and book fair. Give the gift ofreading and knowledge this year while supporting the new library. If you have any questions please\n	\n		contact the City Recorder at (435) 884-4603.
X-ALT-DESC;FMTTYPE=text/html:<div style="color: gray">\n	<p align="left">\n		<u><span style="font-size: 16px"><span style="color: #0000cd"><b><font face="TimesNewRomanPS-BoldMT">Library Holiday Festival &amp\; Book Fair.<br />\n		<br />\n		</font></b></span></span></u><span style="font-size: 12px"><font face="TimesNewRomanPSMT">We are planning a library day of fun December 15 </font><font face="TimesNewRomanPSMT"><font face="TimesNewRomanPSMT">th </font></font><font face="TimesNewRomanPSMT">at 10am at </font><font face="TimesNewRomanPSMT">City Hall to support the new library. We will be having a special storytime reading by Mrs. Claus\, a </font><font face="TimesNewRomanPSMT">holiday craft station\, a holiday game station and a wonderful book fair by Usborne Books. 50% of the </font><font face="TimesNewRomanPSMT">proceeds from the sale of books go to the library and 50% of cash donations will be matched by</font></span></p>\n	<p align="left">\n		<span style="font-size: 12px"><font face="TimesNewRomanPSMT">Usborne books. Come to the book fair and get some of your holiday shopping done while supporting the </font><font face="TimesNewRomanPSMT">library through the Usborne matching book program. If you are unable to attend the Library Holiday</font></span></p>\n	<p align="left">\n		<span style="font-size: 12px"><font face="TimesNewRomanPSMT">Festival and Book Fair you may shop online at </font><font color="#0000ff" face="TimesNewRomanPSMT"><font color="#0000ff" face="TimesNewRomanPSMT">www.learnersread.com </font></font><font face="TimesNewRomanPSMT">event: Grantsville Library </font><font face="TimesNewRomanPSMT">Fundraiser.<br />\n		<br />\n		We hope that you all will join us for this fun holiday festival and book fair. Give the gift of</font><font face="TimesNewRomanPSMT">reading and knowledge this year while supporting the new library. If you have any questions please</font></span></p>\n	<p align="left">\n		<span style="font-size: 12px"><font face="TimesNewRomanPSMT">contact the City Recorder at (435) 884-4603.</font></span></p>\n</div>\n
LOCATION:
UID:e.125.4953
SEQUENCE:3
DTSTAMP:20260421T033449Z
URL:https://members.tooelechamber.com/events/details/library-holiday-festival-book-fair-12-15-2012-4953
END:VEVENT

END:VCALENDAR
