BEGIN:VCALENDAR
VERSION:2.0
PRODID:-//ChamberMaster//Event Calendar 2.0//EN
METHOD:PUBLISH
X-PUBLISHED-TTL:P3D
REFRESH-INTERVAL:P3D
CALSCALE:GREGORIAN
BEGIN:VEVENT
DTSTART:20121221T003000Z
DTEND:20121221T013000Z
X-MICROSOFT-CDO-ALLDAYEVENT:FALSE
SUMMARY:Light Parade
DESCRIPTION:Light Parade. \n\n		\n\n		Mark your calendars for a new holiday tradition - The Light Parade December 20 at 6pm. The parade route will be from West Street going east on Main Street to Quirk Street ending at the\n	\n		Grantsville High School. We would like anyone that would like to participate to join us\, please meet at 5:30pm at the intersection of West and Main Street heading north towards Clark Street. We are asking people to decorate your vehicles\, trailers\, floats\, whatever you wish to put in the parade with your luminary choice. We will be offering prizes for different categories: best lit\, most festive\, most humorous\, and the fun lovers' award.\n\n		\n\n		There is no entrance fee\, but we do ask that you register by calling\n\n		(435) 884-4608 (please leave a message if there isn't an answer) so we can get a count of how many people are planning to participate. We have made contact with the schools and the students are going to sing Christmas Carols at the Grantsville High School Gymnasium following the parade for approximately an hour.\n\n		\n\n		The American Cancer Society will be serving hot chocolate and treats.
X-ALT-DESC;FMTTYPE=text/html:<div style="color: gray">\n	<p align="left">\n		<span style="font-size: 18px"><span style="color: #ff0000"><u><font face="TimesNewRomanPS-BoldMT">Light Parade</font></u></span></span><font face="TimesNewRomanPSMT"><span style="font-size: 18px"><span style="color: #ff0000"><u>. </u></span></span><br />\n		<br />\n		<span style="font-size: 14px">Mark your calendars for a new holiday tradition - The Light Parade December 20</span></font><span style="font-size: 14px"><font face="TimesNewRomanPSMT"><font face="TimesNewRomanPSMT"> </font>at 6pm. The parade route will be from West Street going east on Main Street to Quirk Street ending at the</font></span></p>\n	<p align="left">\n		<span style="font-size: 14px"><font face="TimesNewRomanPSMT">Grantsville High School. We would like anyone that would like to participate to join us\, please meet at 5:30pm at the intersection of West and Main Street heading north towards Clark Street. We are asking people to decorate your vehicles\, trailers\, floats\, whatever you wish to put in the parade with your </font><font face="TimesNewRomanPSMT">luminary choice. We will be offering prizes for different categories: best lit\, most festive\, most </font><font face="TimesNewRomanPSMT">humorous\, and the fun lovers&rsquo\; award.<br />\n		<br />\n		There is no entrance fee\, but we do ask that you register by calling<br />\n		</font><font face="TimesNewRomanPSMT">(435) 884-4608 (please leave a message if there isn&rsquo\;t an answer) so we can get a count of how many </font><font face="TimesNewRomanPSMT">people are planning to participate. We have made contact with the schools and the students are going to </font><font face="TimesNewRomanPSMT">sing Christmas Carols at the Grantsville High School Gymnasium following the parade for approximately an hour.<br />\n		<br />\n		The American Cancer Society will be serving hot chocolate and treats.</font></span></p>\n</div>\n
LOCATION:
UID:e.125.4952
SEQUENCE:3
DTSTAMP:20260421T031826Z
URL:https://members.tooelechamber.com/events/details/light-parade-12-20-2012-4952
END:VEVENT

END:VCALENDAR
