BEGIN:VCALENDAR
VERSION:2.0
PRODID:-//ChamberMaster//Event Calendar 2.0//EN
METHOD:PUBLISH
X-PUBLISHED-TTL:P3D
REFRESH-INTERVAL:P3D
CALSCALE:GREGORIAN
BEGIN:VEVENT
DTSTART:20090215T010000Z
DTEND:20090215T010000Z
X-MICROSOFT-CDO-ALLDAYEVENT:FALSE
SUMMARY:''Love Talk'' Valentine's Day Dinner\, Dance & Activities
DESCRIPTION:Don't miss the Tooele County Healthy Marriage Coaltiion's annual Valentine event! Each couple will receive a gift!
X-ALT-DESC;FMTTYPE=text/html:Don't miss the Tooele County Healthy Marriage Coaltiion's annual Valentine event! Each couple will receive a gift!
LOCATION:59 E. Vine St\, Tooele
UID:e.125.528
SEQUENCE:3
DTSTAMP:20260424T041338Z
URL:https://members.tooelechamber.com/events/details/love-talk-valentine-s-day-dinner-dance-activities-02-14-2009-528
END:VEVENT

END:VCALENDAR
