BEGIN:VCALENDAR
VERSION:2.0
PRODID:-//ChamberMaster//Event Calendar 2.0//EN
METHOD:PUBLISH
X-PUBLISHED-TTL:P3D
REFRESH-INTERVAL:P3D
CALSCALE:GREGORIAN
BEGIN:VEVENT
DTSTART;VALUE=DATE:20120624
DTEND;VALUE=DATE:20120625
TRANSP:TRANSPARENT
X-MICROSOFT-CDO-ALLDAYEVENT:TRUE
SUMMARY:Lucas Oil Off Road Racing Series
DESCRIPTION:Lucas Oil Off Road Racing Series\n\n	June 23-24\n\n	\n\n	The Lucas Oil Off-Road Racing Series\, with it's earth-shaking 800hp racing trucks\, buggies\,\n\n	has proved to be a huge hit with Utah fans.  They're back for a third year\, racing on Miller\n\n	Motorsports Park's purpose-built Off-Road Short Course. Jumps\, whoops and truckloads of\n\n	adrenaline will guarantee a show that you won't soon forget!
X-ALT-DESC;FMTTYPE=text/html:<p>\n	<strong><span style="font-size: 18px"><span style="font-size: 20px"><u>Lucas Oil Off Road Racing Series<br />\n	June 23-24</u></span><br />\n	<br />\n	The Lucas Oil Off-Road Racing Series\, with it&#39\;s earth-shaking 800hp racing trucks\, buggies\,<br />\n	has proved to be a huge hit with Utah fans.&nbsp\; They&#39\;re back for a third year\, racing on Miller<br />\n	Motorsports Park&#39\;s purpose-built Off-Road Short Course. Jumps\, whoops and truckloads of<br />\n	adrenaline will guarantee a show that you won&#39\;t soon forget!<span _fck_bookmark="1" style="display: none">&nbsp\;</span></span></strong></p>\n
LOCATION:
UID:e.125.4801
SEQUENCE:3
DTSTAMP:20260421T141211Z
URL:https://members.tooelechamber.com/events/details/lucas-oil-off-road-racing-series-06-24-2012-4801
END:VEVENT

END:VCALENDAR
