BEGIN:VCALENDAR
VERSION:2.0
PRODID:-//ChamberMaster//Event Calendar 2.0//EN
METHOD:PUBLISH
X-PUBLISHED-TTL:P3D
REFRESH-INTERVAL:P3D
CALSCALE:GREGORIAN
BEGIN:VEVENT
DTSTART:20140823T130000Z
DTEND:20140823T230000Z
X-MICROSOFT-CDO-ALLDAYEVENT:FALSE
SUMMARY:Lucas Oil Pro Motocross Championship
DESCRIPTION:Miller Motorsport Park Presents:\n\nLucas Oil Pro Motocross Championship\n\nFor Tickets/Info. - (435) 277-RACE\n\nwww.millermotorsportspark.com
X-ALT-DESC;FMTTYPE=text/html:&nbsp\;<br />\n<strong><u><span style="color:#4F6228\;"><span style="font-family:arial rounded mt bold\,sans-serif\;"><span style="font-size:14.0pt\;">Miller Motorsport Park Presents:</span></span></span></u></strong><br />\n<span style="color:#4F6228\;"><span style="font-family:arial\,sans-serif\;"><span style="font-size:14.0pt\;">Lucas Oil Pro Motocross Championship</span></span></span><br />\n<span style="color:#4F6228\;"><span style="font-family:arial\,sans-serif\;"><span style="font-size:14.0pt\;">For Tickets/Info. - (435) 277-RACE</span></span></span><br />\n<a href="http://www.millermotorsportspark.com/"><span style="font-family:arial\,sans-serif\;"><span style="font-size:14.0pt\;">www.millermotorsportspark.com</span></span></a><br />\n&nbsp\;
LOCATION:Miller Motorsports Park 2901 N Sheep Lane Tooele
UID:e.125.5384
SEQUENCE:3
DTSTAMP:20260419T143115Z
URL:https://members.tooelechamber.com/events/details/lucas-oil-pro-motocross-championship-08-23-2014-5384
END:VEVENT

END:VCALENDAR
