BEGIN:VCALENDAR
VERSION:2.0
PRODID:-//ChamberMaster//Event Calendar 2.0//EN
METHOD:PUBLISH
X-PUBLISHED-TTL:P3D
REFRESH-INTERVAL:P3D
CALSCALE:GREGORIAN
BEGIN:VEVENT
DTSTART:20130213T190000Z
DTEND:20130213T200000Z
X-MICROSOFT-CDO-ALLDAYEVENT:FALSE
SUMMARY:Luncheon
DESCRIPTION:ENERGYSOLUTIONS\n\n	Cordially Invites you and your guests\n\n	To attend the Tooele County Chamber of Commerce Luncheon sponsored by\n\n	ENERGYSOLUTIONS\n\n	 \n\n	 NO- COST to Chamber Members or Non-Members (Free)\n\n	 \n\n	On February 13th at Noon at the\n\n	Deseret Peak Convention Center\n\n	 \n\n	"GET THE REAL STORY ON ENERGYSOLUTIONS"\n\n	James A. Miller\n\n	Vice President & General Manager \n\n	Clive Operations\n\n	 \n\n	 \n\n	Catered By   DENNY'S\n\n	You Must RSVP to the Chamber Office by Feb 11th to make sure we have plenty of food prepared.\n\n	435-882-0690
X-ALT-DESC;FMTTYPE=text/html:<div style="color: gray">\n	&nbsp\;<br />\n	&nbsp\;<br />\n	<strong><span style="font-size: 14pt"><span style="font-family: times new roman\, serif">ENERGY<em>SOLUTIONS</em></span></span></strong><br />\n	<strong><em><span style="font-size: 14pt"><span style="font-family: times new roman\, serif">Cordially Invites you and your guests</span></span></em></strong><br />\n	<strong><em><span style="font-size: 14pt"><span style="font-family: times new roman\, serif">To attend the Tooele County Chamber of Commerce Luncheon sponsored by</span></span></em></strong><br />\n	<strong><span style="font-size: 14pt"><span style="font-family: times new roman\, serif">ENERGY<em>SOLUTIONS</em></span></span></strong><br />\n	&nbsp\;<br />\n	<strong><em><span style="font-size: 14pt"><span style="font-family: times new roman\, serif">&nbsp\;NO- COST to Chamber Members or Non-Members (Free)</span></span></em></strong><br />\n	&nbsp\;<br />\n	<strong><em><span style="font-size: 14pt"><span style="font-family: times new roman\, serif">On February 13<sup>th</sup> at Noon at the</span></span></em></strong><br />\n	<strong><em><span style="font-size: 14pt"><span style="font-family: times new roman\, serif">Deseret Peak Convention Center</span></span></em></strong><br />\n	&nbsp\;<br />\n	<strong><em><span style="font-size: 14pt"><span style="font-family: times new roman\, serif">&ldquo\;GET THE REAL STORY ON </span></span></em></strong><strong><span style="font-size: 14pt"><span style="font-family: times new roman\, serif">ENERGY<em>SOLUTIONS&rdquo\;</em></span></span></strong><br />\n	<strong><em><span style="font-size: 14pt"><span style="font-family: times new roman\, serif">James A. Miller</span></span></em></strong><br />\n	<strong><em><span style="font-size: 14pt"><span style="font-family: times new roman\, serif">Vice President &amp\; General Manager </span></span></em></strong><br />\n	<strong><em><span style="font-size: 14pt"><span style="font-family: times new roman\, serif">Clive Operations</span></span></em></strong><br />\n	&nbsp\;<br />\n	&nbsp\;<br />\n	<strong><em><span style="font-size: 14pt"><span style="font-family: times new roman\, serif">Catered By &ndash\; DENNY&rsquo\;S</span></span></em></strong><br />\n	<strong><em><span style="font-size: 14pt"><span style="font-family: times new roman\, serif">You Must RSVP to the Chamber Office by Feb 11<sup>th</sup> to make sure we have plenty of food prepared.</span></span></em></strong><br />\n	<strong><em><span style="font-size: 14pt"><span style="font-family: times new roman\, serif">435-882-0690&nbsp\;</span></span></em></strong><br />\n	&nbsp\;</div>\n
LOCATION:
UID:e.125.4962
SEQUENCE:3
DTSTAMP:20260420T215339Z
URL:https://members.tooelechamber.com/events/details/luncheon-02-13-2013-4962
END:VEVENT

END:VCALENDAR
