BEGIN:VCALENDAR
VERSION:2.0
PRODID:-//ChamberMaster//Event Calendar 2.0//EN
METHOD:PUBLISH
X-PUBLISHED-TTL:P3D
REFRESH-INTERVAL:P3D
CALSCALE:GREGORIAN
BEGIN:VEVENT
DTSTART:20130227T190000Z
DTEND:20130227T200000Z
X-MICROSOFT-CDO-ALLDAYEVENT:FALSE
SUMMARY:Luncheon
DESCRIPTION:Luncheon\n\nNew Hope House\n\n12:00 Noon\n\n154 South Main Street\n\nPlease RSVP by 25th of February to staff@tooelechamber.com or 435-882-0690
X-ALT-DESC;FMTTYPE=text/html:Luncheon<br />\nNew Hope House<br />\n12:00 Noon<br />\n154 South Main Street<br />\nPlease RSVP by 25th of February to staff@tooelechamber.com or 435-882-0690
LOCATION:
UID:e.125.4965
SEQUENCE:3
DTSTAMP:20260420T215340Z
URL:https://members.tooelechamber.com/events/details/luncheon-02-27-2013-4965
END:VEVENT

END:VCALENDAR
