BEGIN:VCALENDAR
VERSION:2.0
PRODID:-//ChamberMaster//Event Calendar 2.0//EN
METHOD:PUBLISH
X-PUBLISHED-TTL:P3D
REFRESH-INTERVAL:P3D
CALSCALE:GREGORIAN
BEGIN:VEVENT
DTSTART:20120627T180000Z
DTEND:20120627T190000Z
X-MICROSOFT-CDO-ALLDAYEVENT:FALSE
SUMMARY:Luncheon
DESCRIPTION:Luncheon.\n\n	Wednesday\, June 27\, 2012@ 12 Noon\n\n	Hosted by: Tooele County Economic Development. \n\n	Chamber Building 154 So. Main Tooele \n\n	Click here to edit...
X-ALT-DESC;FMTTYPE=text/html:<div style="color: gray">\n	<span style="color: #000000"><span style="font-size: 16px"><em><strong><u>Luncheon.</u></strong></em><br />\n	<strong>Wednesday\, June 27\, 2012@ 12 Noon</strong><br />\n	<strong>Hosted by: Tooele County Economic Development. </strong></span><br />\n	<strong><span style="font-size: medium"><span style="font-size: 16px">Chamber Building 154 So. Main Tooele</span>&nbsp\;</span></strong></span><br />\n	Click here to edit...</div>\n
LOCATION:
UID:e.125.4864
SEQUENCE:3
DTSTAMP:20260421T121846Z
URL:https://members.tooelechamber.com/events/details/luncheon-06-27-2012-4864
END:VEVENT

END:VCALENDAR
