BEGIN:VCALENDAR
VERSION:2.0
PRODID:-//ChamberMaster//Event Calendar 2.0//EN
METHOD:PUBLISH
X-PUBLISHED-TTL:P3D
REFRESH-INTERVAL:P3D
CALSCALE:GREGORIAN
BEGIN:VEVENT
DTSTART:20130424T180000Z
DTEND:20130424T190000Z
X-MICROSOFT-CDO-ALLDAYEVENT:FALSE
SUMMARY:Luncheon-American Cancer Society @ Eagles Nest
DESCRIPTION:Luncheon\n\nWednesday\, April 24th\, 2013\n\nAmerican Cancer Society\n\nEagles Nest-Tooele Army Depot\n\n\n\nPlease RSVP by Monday\, April 22nd\, 2013 to staff@tooelechamber.com\n\nor 435-882-0690
X-ALT-DESC;FMTTYPE=text/html:Luncheon<br />\nWednesday\, April 24th\, 2013<br />\nAmerican Cancer Society<br />\nEagles Nest-Tooele Army Depot<br />\n<br />\nPlease RSVP by Monday\, April 22nd\, 2013 to <a href="mailto:staff@tooelechamber.com">staff@tooelechamber.com</a><br />\nor 435-882-0690
LOCATION:
UID:e.125.4976
SEQUENCE:3
DTSTAMP:20260420T202450Z
URL:https://members.tooelechamber.com/events/details/luncheon-american-cancer-society-eagles-nest-04-24-2013-4976
END:VEVENT

END:VCALENDAR
