BEGIN:VCALENDAR
VERSION:2.0
PRODID:-//ChamberMaster//Event Calendar 2.0//EN
METHOD:PUBLISH
X-PUBLISHED-TTL:P3D
REFRESH-INTERVAL:P3D
CALSCALE:GREGORIAN
BEGIN:VEVENT
DTSTART:20131113T190000Z
DTEND:20131113T210000Z
X-MICROSOFT-CDO-ALLDAYEVENT:FALSE
SUMMARY:Luncheon-TATC
DESCRIPTION:
X-ALT-DESC;FMTTYPE=text/html:
LOCATION:
UID:e.125.5014
SEQUENCE:3
DTSTAMP:20260420T061101Z
URL:https://members.tooelechamber.com/events/details/luncheon-tatc-11-13-2013-5014
END:VEVENT

END:VCALENDAR
