BEGIN:VCALENDAR
VERSION:2.0
PRODID:-//ChamberMaster//Event Calendar 2.0//EN
METHOD:PUBLISH
X-PUBLISHED-TTL:P3D
REFRESH-INTERVAL:P3D
CALSCALE:GREGORIAN
BEGIN:VEVENT
DTSTART:20130410T180000Z
DTEND:20130410T190000Z
X-MICROSOFT-CDO-ALLDAYEVENT:FALSE
SUMMARY:Luncheon-UMA Legislator update
DESCRIPTION:Chamber Luncheon\n\n\n\nWed. April 10\, 2013\n\n11:30 am Networking\n\n12 noon lunch\n\nLegislature Update\n\nHosted by: UMA\n\nSponsored by: Morton Salt\n\nChamber buidling 154 south Main Street\, Tooele\n\nRSVP by Monday\, April 8\, 2013 @ 882-0690\n\nstaff@tooelechamber.com
X-ALT-DESC;FMTTYPE=text/html:<strong><span style="color: #e36c0a"><span style="font-family: arial\, sans-serif"><u>Chamber Luncheon</u><br />\n<br />\nWed. April 10\, 2013<br />\n11:30 am Networking<br />\n12 noon lunch<br />\nLegislature Update</span></span></strong><br />\n<strong><span style="color: #e36c0a"><span style="font-family: arial\, sans-serif">Hosted by: UMA</span></span></strong><br />\n<strong><span style="color: #e36c0a"><span style="font-family: arial\, sans-serif">Sponsored by: Morton Salt<br />\nChamber&nbsp\;buidling 154 south Main Street\, Tooele<br />\nRSVP by Monday\,&nbsp\;April 8\, 2013 @ 882-0690<br />\n<a href="mailto:staff@tooelechamber.com">staff@tooelechamber.com</a></span></span></strong><br />\n&nbsp\;<br />\n
LOCATION:
UID:e.125.4974
SEQUENCE:3
DTSTAMP:20260420T181353Z
URL:https://members.tooelechamber.com/events/details/luncheon-uma-legislator-update-04-10-2013-4974
END:VEVENT

END:VCALENDAR
