BEGIN:VCALENDAR
VERSION:2.0
PRODID:-//ChamberMaster//Event Calendar 2.0//EN
METHOD:PUBLISH
X-PUBLISHED-TTL:P3D
REFRESH-INTERVAL:P3D
CALSCALE:GREGORIAN
BEGIN:VEVENT
DTSTART:20131023T180000Z
DTEND:20131023T190000Z
X-MICROSOFT-CDO-ALLDAYEVENT:FALSE
SUMMARY:Luncheon-USU
DESCRIPTION:Chamber Luncheon\n\n	Wednesday\, October 23rd\, 2013\n\n	USU\n\n	154 South Main Street\, Tooele\n\n	Chamber Building\n\n	Please RSVP by Monday\, October 21st 2013\n\n	to staff@tooelechamber.com\n\n	or 435-882-0690\n\n	$10 for Members and $15 for non-members\n\n	 \n\n	Click here to edit...
X-ALT-DESC;FMTTYPE=text/html:<div style="color: gray">\n	&nbsp\;<strong><u><span style="font-size: 18pt"><span style="color: mediumblue"><span style="font-family: arial\, sans-serif">Chamber Luncheon</span></span></span></u></strong><br />\n	<span style="font-size: 10pt"><span style="font-family: arial\, sans-serif">Wednesday\,&nbsp\;October 23rd\, 2013</span></span><br />\n	<strong><font color="#0000cd">USU</font></strong><br />\n	<span style="font-size: 10pt"><span style="font-family: arial\, sans-serif">154 South Main Street\, Tooele<br />\n	Chamber Building<br />\n	Please RSVP by Monday\,&nbsp\;October 21st&nbsp\;2013<br />\n	to <a href="mailto:staff@tooelechamber.com">staff@tooelechamber.com</a><br />\n	or 435-882-0690<br />\n	$10 for Members and $15 for non-members<br />\n	&nbsp\;</span></span><br />\n	Click here to edit...</div>\n
LOCATION:
UID:e.125.5011
SEQUENCE:3
DTSTAMP:20260420T075459Z
URL:https://members.tooelechamber.com/events/details/luncheon-usu-10-23-2013-5011
END:VEVENT

END:VCALENDAR
