BEGIN:VCALENDAR
VERSION:2.0
PRODID:-//ChamberMaster//Event Calendar 2.0//EN
METHOD:PUBLISH
X-PUBLISHED-TTL:P3D
REFRESH-INTERVAL:P3D
CALSCALE:GREGORIAN
BEGIN:VEVENT
DTSTART:20130828T180000Z
DTEND:20130828T190000Z
X-MICROSOFT-CDO-ALLDAYEVENT:FALSE
SUMMARY:Luncheon-Valley Mental Health
DESCRIPTION:Wednesday\, Aug 28th\, 2013\n\n	Valley Mental Health\n\n	154 South Main Street\, Tooele\n\n	Chamber Building\n\n	Please RSVP by Monday\, Aug 28th\, 2013 to staff@tooelechamber.com\n\n	or 435-882-0690\n\n	$10 for Members and $15 for non-members\n\n	_Click here to edit...
X-ALT-DESC;FMTTYPE=text/html:<div style="color: gray">\n	&nbsp\;<span style="language: en-US"><span style="font-size: 32pt"><span style="color: black"><span style="font-family: lucida sans unicode">Wednesday</span></span></span></span><span style="language: en-US"><span style="font-size: 32pt"><span style="color: black"><span style="font-family: lucida sans unicode">\, Aug 28th\, 2013<br />\n	Valley Mental Health</span></span></span></span><br />\n	<span style="language: en-US"><span style="font-size: 32pt"><span style="color: black"><span style="font-family: lucida sans unicode">154 South Main Street\, Tooele</span></span></span></span><br />\n	<span style="language: en-US"><span style="font-size: 32pt"><span style="color: black"><span style="font-family: lucida sans unicode">Chamber Building</span></span></span></span><br />\n	<span style="language: en-US"><span style="font-size: 28pt"><span style="color: black"><span style="font-family: lucida sans unicode">Please RSVP by Monday\, Aug 28th\, 2013 to </span></span></span></span><span style="language: en-US"><span style="font-size: 28pt"><span style="color: #0000cc"><span style="font-family: lucida sans unicode"><a href="mailto:staff@tooelechamber.com">staff@tooelechamber.com</a></span></span></span></span><br />\n	<span style="language: en-US"><span style="font-size: 28pt"><span style="color: black"><span style="font-family: lucida sans unicode">or 435-882-0690</span></span></span></span><br />\n	<span style="language: en-US"><span style="font-size: 28pt"><span style="color: black"><span style="font-family: lucida sans unicode">$10 for Members and $15 for non-members</span></span></span></span><br />\n	<span id="scayt_bookmark" style="display: none">_</span>Click here to edit...</div>\n
LOCATION:
UID:e.125.5002
SEQUENCE:3
DTSTAMP:20260420T113452Z
URL:https://members.tooelechamber.com/events/details/luncheon-valley-mental-health-08-28-2013-5002
END:VEVENT

END:VCALENDAR
