BEGIN:VCALENDAR
VERSION:2.0
PRODID:-//ChamberMaster//Event Calendar 2.0//EN
METHOD:PUBLISH
X-PUBLISHED-TTL:P3D
REFRESH-INTERVAL:P3D
CALSCALE:GREGORIAN
BEGIN:VEVENT
DTSTART:20110604T160000Z
DTEND:20110604T200000Z
X-MICROSOFT-CDO-ALLDAYEVENT:FALSE
SUMMARY:Macey's 5th Annual Kids Safety Fair
DESCRIPTION:Maceys 5th Annual Kid's Safety Fair\n\n	Saturday\, June 4\, 2011 10am to 2pm. \n\n	Participants include Life flight\, AirMed\, Stansbury Health Care and the Teddy Bear Clinic\, Tooele County Health Department\, Tooele City Police\, Tooele County Sheriff\, Tooele County Search and Rescue\, Utah Highway Patrol\, Tooele City Fire Department\, Red Cross Blood Drive\, and Most Don't Campaign.  Hot dogs and a drink for only $1.00 (proceeds to Tooele County Children's Justice Center).  Free balloons\, cotton candy and popcorn for the kids!
X-ALT-DESC;FMTTYPE=text/html:<p class="MsoNormal" style="text-align: center\; margin: 0in 0in 0pt">\n	<b><span style="font-family: 'calibri'\, 'sans-serif'\; color: #1f497d"><font size="3">Maceys 5</font><sup><font size="2">th</font></sup><font size="3"> Annual Kid&rsquo\;s Safety Fair</font></span></b><span style="font-family: 'calibri'\, 'sans-serif'\; color: #1f497d"><font size="3"><br />\n	Saturday\, June 4\, 2011 10am to 2pm.&nbsp\;<br />\n	Participants include Life flight\, AirMed\, Stansbury Health Care and the Teddy Bear Clinic\, Tooele County Health Department\, Tooele City Police\, Tooele County Sheriff\, Tooele County Search and Rescue\, Utah Highway Patrol\, Tooele City Fire Department\, Red Cross Blood Drive\, and Most Don&rsquo\;t Campaign.&nbsp\; Hot dogs and a drink for only $1.00 (proceeds to Tooele County Children&rsquo\;s Justice Center). &nbsp\;Free balloons\, cotton candy and popcorn for the kids!<span _fck_bookmark="1" style="display: none">&nbsp\;</span><o:p></o:p></font></span></p>\n
LOCATION:
UID:e.125.3703
SEQUENCE:3
DTSTAMP:20260422T075425Z
URL:https://members.tooelechamber.com/events/details/macey-s-5th-annual-kids-safety-fair-06-04-2011-3703
END:VEVENT

END:VCALENDAR
