BEGIN:VCALENDAR
VERSION:2.0
PRODID:-//ChamberMaster//Event Calendar 2.0//EN
METHOD:PUBLISH
X-PUBLISHED-TTL:P3D
REFRESH-INTERVAL:P3D
CALSCALE:GREGORIAN
BEGIN:VEVENT
DTSTART;VALUE=DATE:20081205
DTEND;VALUE=DATE:20081207
TRANSP:TRANSPARENT
X-MICROSOFT-CDO-ALLDAYEVENT:TRUE
SUMMARY:Macey's Annual Holiday Open House
DESCRIPTION:Come celebrate an old fashioned Hometown Christmas with Macey's Holiday Gift IdeasPrizesLive EntertainmentSamples throughout the storeGreat In Store SpecialsCheck out our fabulous party trays!Let macey's help you get all your holiday plans underway!
X-ALT-DESC;FMTTYPE=text/html:<div align="center"><font size="6">Come celebrate an old fashioned Hometown Christmas with Macey's</font></div><ul><li><div align="center"><font size="6">&nbsp\;Holiday Gift Ideas</font></div></li><li><div align="center"><font size="6">Prizes</font></div></li><li><div align="center"><font size="6">Live Entertainment</font></div></li><li><div align="center"><font size="6">Samples throughout the store</font></div></li><li><div align="center"><font size="6">Great In Store Specials</font></div></li><li><div align="center"><font size="6">Check out our fabulous party trays!</font></div></li></ul><div align="center"><font size="6">Let macey's help you get all your holiday plans underway!</font></div>
LOCATION:Macey's is located at 972 North Main Street\, Tooele
UID:e.125.497
SEQUENCE:3
DTSTAMP:20260424T072142Z
URL:https://members.tooelechamber.com/events/details/macey-s-annual-holiday-open-house-12-05-2008-497
END:VEVENT

END:VCALENDAR
