BEGIN:VCALENDAR
VERSION:2.0
PRODID:-//ChamberMaster//Event Calendar 2.0//EN
METHOD:PUBLISH
X-PUBLISHED-TTL:P3D
REFRESH-INTERVAL:P3D
CALSCALE:GREGORIAN
BEGIN:VEVENT
DTSTART;VALUE=DATE:20080116
DTEND;VALUE=DATE:20080130
TRANSP:TRANSPARENT
X-MICROSOFT-CDO-ALLDAYEVENT:TRUE
SUMMARY:Macey's Family Preparedness Sale
DESCRIPTION:Come join the Macey's Team and participate in the Emergency Preparedness Sale!     Don't pass up the great savings on these must have items!
X-ALT-DESC;FMTTYPE=text/html:<div align="center"><font size="4"><strong>Come join the Macey&rsquo\;s Team and participate in the Emergency Preparedness Sale!&nbsp\;&nbsp\;&nbsp\;&nbsp\; Don&rsquo\;t pass up the great savings on these must have items!</strong></font></div><div>&nbsp\;</div><div>&nbsp\;</div>
LOCATION:Maceys Food and Drug972 North Main\, Tooele
UID:e.125.213
SEQUENCE:3
DTSTAMP:20260425T005338Z
URL:https://members.tooelechamber.com/events/details/macey-s-family-preparedness-sale-01-16-2008-213
END:VEVENT

END:VCALENDAR
