BEGIN:VCALENDAR
VERSION:2.0
PRODID:-//ChamberMaster//Event Calendar 2.0//EN
METHOD:PUBLISH
X-PUBLISHED-TTL:P3D
REFRESH-INTERVAL:P3D
CALSCALE:GREGORIAN
BEGIN:VEVENT
DTSTART:20110611T140000Z
DTEND:20110611T160000Z
X-MICROSOFT-CDO-ALLDAYEVENT:FALSE
SUMMARY:Macey's Flag Day Ceremony
DESCRIPTION:Flag Day Celebration\n\n	Saturday\, June 11\, 2011 from 8 am to 10am. \n\n	There will be a flag raising ceremony and free breakfast!
X-ALT-DESC;FMTTYPE=text/html:<p class="MsoNormal" style="text-align: center\; margin: 0in 0in 0pt">\n	<span style="font-size: 20px"><b><span style="font-family: 'calibri'\, 'sans-serif'\; color: #1f497d">Flag Day Celebration</span></b><br />\n	<span style="font-family: 'calibri'\, 'sans-serif'\; color: #1f497d">Saturday\, June 11\, 2011 from 8 am to 10am.&nbsp\;<br />\n	There will be a flag raising ceremony and free breakfast!</span></span><font size="3"><span style="font-family: 'calibri'\, 'sans-serif'\; color: #1f497d"><span _fck_bookmark="1" style="display: none">&nbsp\;</span><o:p></o:p></span></font></p>\n
LOCATION:
UID:e.125.3704
SEQUENCE:3
DTSTAMP:20260422T091414Z
URL:https://members.tooelechamber.com/events/details/macey-s-flag-day-ceremony-06-11-2011-3704
END:VEVENT

END:VCALENDAR
