BEGIN:VCALENDAR
VERSION:2.0
PRODID:-//ChamberMaster//Event Calendar 2.0//EN
METHOD:PUBLISH
X-PUBLISHED-TTL:P3D
REFRESH-INTERVAL:P3D
CALSCALE:GREGORIAN
BEGIN:VEVENT
DTSTART:20140611T160000Z
DTEND:20140611T170000Z
X-MICROSOFT-CDO-ALLDAYEVENT:FALSE
SUMMARY:Macey's Grand Re-Opening
DESCRIPTION:Grand Re-Opening
X-ALT-DESC;FMTTYPE=text/html:Grand Re-Opening
LOCATION:972 North Main Street Tooele\, UT 84074
UID:e.125.5099
SEQUENCE:3
DTSTAMP:20260419T162623Z
URL:https://members.tooelechamber.com/events/details/macey-s-grand-re-opening-06-11-2014-5099
END:VEVENT

END:VCALENDAR
