BEGIN:VCALENDAR
VERSION:2.0
PRODID:-//ChamberMaster//Event Calendar 2.0//EN
METHOD:PUBLISH
X-PUBLISHED-TTL:P3D
REFRESH-INTERVAL:P3D
CALSCALE:GREGORIAN
BEGIN:VEVENT
DTSTART:20110104T220000Z
DTEND:20110105T010000Z
X-MICROSOFT-CDO-ALLDAYEVENT:FALSE
SUMMARY:Manufacturing U Presented by TATC
DESCRIPTION:Industrial Maintenance Classes include:\n\n	\n\n	Principles of Technology\, Electronics\, Hydraulics\, Pneumatics\, Machine Repair\n\n	\n\n	Manufacturing U Course begins on January 4\, 2011 and ends on April 7\, 2011.   Sessions will be held on Tuesdays and Thusdays from 3-6pm. \n\n	\n\n	classes will be held at Utah State University-Tooele Campus\n\n	\n\n	For information:  Contact:  Deborah Labenski at 435-248-1805\, Tooele Applied Technology College\n\n	 \n\n	http://www.tatc.edu/flyers/ManU_flyer_Nov2010.pdf
X-ALT-DESC;FMTTYPE=text/html:<p style="text-align: center">\n	<strong><span style="font-size: 16px">Industrial Maintenance Classes include:<br />\n	<br />\n	Principles of Technology\, Electronics\, Hydraulics\, Pneumatics\, Machine Repair<br />\n	<br />\n	Manufacturing U Course begins on January 4\, 2011 and ends on April 7\, 2011.&nbsp\;&nbsp\; Sessions will be held on Tuesdays and Thusdays from 3-6pm.&nbsp\;<br />\n	<br />\n	classes will be held at Utah State University-Tooele Campus<br />\n	<br />\n	For information:&nbsp\; Contact:&nbsp\; Deborah Labenski at 435-248-1805\, Tooele Applied Technology College</span></strong><br />\n	&nbsp\;</p>\n<p class="MsoNormal" style="margin: 0in 0in 0pt">\n	<strong><span style="font-size: 16px"><a href="http://www.tatc.edu/flyers/ManU_flyer_Nov2010.pdf"><font color="#800080" face="Calibri" size="3">http://www.tatc.edu/flyers/ManU_flyer_Nov2010.pdf</font></a></span></strong></p>\n
LOCATION:
UID:e.125.3505
SEQUENCE:3
DTSTAMP:20260422T155548Z
URL:https://members.tooelechamber.com/events/details/manufacturing-u-presented-by-tatc-01-04-2011-3505
END:VEVENT

END:VCALENDAR
