BEGIN:VCALENDAR
VERSION:2.0
PRODID:-//ChamberMaster//Event Calendar 2.0//EN
METHOD:PUBLISH
X-PUBLISHED-TTL:P3D
REFRESH-INTERVAL:P3D
CALSCALE:GREGORIAN
BEGIN:VEVENT
DTSTART;VALUE=DATE:20100312
DTEND;VALUE=DATE:20100313
TRANSP:TRANSPARENT
X-MICROSOFT-CDO-ALLDAYEVENT:TRUE
SUMMARY:March Madness
DESCRIPTION:Come Celebrate March Madness With Macey's!!March 12th-13th Great deals all day both days!Enjoy dinner for a $1.00\, a hamburger or a hot dog\, chips and a drink.Dinner will be served Friday the 12th from 4:30-7:30pm and Saturday the 13th from 12-5pm. Also Saturday there will be lots of games and prizes.Some come to Macey's the 12th-13th for some food and fun!!Macey's Food & Drug 972 North Main StreetTooele
X-ALT-DESC;FMTTYPE=text/html:<div style="text-align: center"><span style="font-size: large"><strong><u>Come Celebrate March Madness With Macey&rsquo\;s!!</u></strong></span></div><div style="text-align: center"><span style="font-size: medium">March 12th-13th </span></div><div style="text-align: center"><span style="background-color: #00ffff"><span style="font-size: medium">Great deals all day both days!</span></span></div><div style="text-align: center"><span style="font-size: medium">Enjoy dinner for a $1.00\, </span></div><div style="text-align: center"><span style="font-size: medium">a hamburger or a hot dog\, chips and a drink.</span></div><div style="text-align: center"><span style="font-size: medium">Dinner will be served Friday the 12th from 4:30-7:30pm and Saturday the 13th from 12-5pm. </span></div><div style="text-align: center"><span style="font-size: medium">Also Saturday there will be lots of games and prizes.</span></div><div style="text-align: center"><span style="font-size: medium">Some come to Macey&rsquo\;s the 12th-13th for some </span></div><div style="text-align: center"><span style="font-size: medium">food and fun!!</span></div><div style="text-align: center"><span style="font-size: medium">Macey&rsquo\;s Food &amp\; Drug </span></div><div style="text-align: center"><span style="font-size: medium">972 North Main Street</span></div><div style="text-align: center"><span style="font-size: medium">Tooele </span></div>
LOCATION:
UID:e.125.3115
SEQUENCE:3
DTSTAMP:20260423T092029Z
URL:https://members.tooelechamber.com/events/details/march-madness-03-12-2010-3115
END:VEVENT

END:VCALENDAR
