BEGIN:VCALENDAR
VERSION:2.0
PRODID:-//ChamberMaster//Event Calendar 2.0//EN
METHOD:PUBLISH
X-PUBLISHED-TTL:P3D
REFRESH-INTERVAL:P3D
CALSCALE:GREGORIAN
BEGIN:VEVENT
DTSTART;VALUE=DATE:20140301
DTEND;VALUE=DATE:20140302
TRANSP:TRANSPARENT
X-MICROSOFT-CDO-ALLDAYEVENT:TRUE
SUMMARY:Master Gardener Spring Expo
DESCRIPTION:Master Gardener Spring Expo - Saturday\, March 1st!  Learn about many gardening topics at one event!  Your $5 admission allows access to 6 different classes to choose from - Organic Gardening\, Lawns\, Self-Watering Containers\, Roses\, New All American Varieties\, and Soil Building.  Top off the morning with a fantastic general session with Mike Pace\, Box Elder County Extension Agent.  He'll be giving practical insights on successful back yard fruit tree cultivation and production. Held at USU Extension Office\, 151 N. Main\, Tooele. Registration at 9:30 AM\, sessions through 2 PM.  For more info\, call 435-277-2409.
X-ALT-DESC;FMTTYPE=text/html:<strong><span style="font-family:arial\,sans-serif\;"><span style="font-size:12.0pt\;">Master Gardener Spring Expo - Saturday\, March 1st!</span></span></strong><span style="font-family:arial\,sans-serif\;"><span style="font-size:12.0pt\;">&nbsp\;&nbsp\;Learn about many gardening topics at one event! &nbsp\;Your $5 admission allows access to 6 different classes to choose from - Organic Gardening\, Lawns\, Self-Watering Containers\, Roses\, New All American Varieties\, and Soil Building. &nbsp\;Top off the morning with a fantastic general session with Mike Pace\, Box Elder County Extension Agent. &nbsp\;He&#39\;ll be giving practical insights on successful back yard fruit tree cultivation and production. Held at USU Extension Office\, 151 N. Main\, Tooele. Registration at 9:30 AM\, sessions through 2 PM. &nbsp\;For more info\, call 435-277-2409. &nbsp\;</span></span><br />\n
LOCATION:
UID:e.125.5069
SEQUENCE:3
DTSTAMP:20260420T000320Z
URL:https://members.tooelechamber.com/events/details/master-gardener-spring-expo-03-01-2014-5069
END:VEVENT

END:VCALENDAR
