BEGIN:VCALENDAR
VERSION:2.0
PRODID:-//ChamberMaster//Event Calendar 2.0//EN
METHOD:PUBLISH
X-PUBLISHED-TTL:P3D
REFRESH-INTERVAL:P3D
CALSCALE:GREGORIAN
BEGIN:VEVENT
DTSTART:20110503T160000Z
DTEND:20110503T180000Z
X-MICROSOFT-CDO-ALLDAYEVENT:FALSE
SUMMARY:May Safety Training -UMA
DESCRIPTION:Have you attended your two safety trainings yet? \n\n	Make sure you attend this seminar so you don't lose your 5% discount!\n\n	Sign-up your employees for FREE safety training!\n\n	Tuesday\, May 3\, 2011 from 10am-12pm\n\n	Location: Carlisle Syntec\, Inc.\n\n	1600 B Ave.\, Tooele\, Utah 84074\n\n	Attendees will be able to attend the 2 classes during the session. You are welcome to send as many employees as you would like to the training.\n\n	\n\n	2 Training Sessions -\n\n	Fall Safety Training\n\n	Hand and Welding Helmet Safety Training\n\n	\n\n	This session qualifies for credit with the WCF Discount Program\n\n	You are welcome to attend even if you are not insured with the Workers Comp Fund\n\n	\n\n	Lunch will be served!\n\n	Register today with Teresa Thomas at 801-363-3885 or by email teresa@umaweb.org
X-ALT-DESC;FMTTYPE=text/html:<p>\n	<span style="color: #ff0000"><strong>Have you attended your two safety trainings yet? </strong></span><br />\n	Make sure you attend this seminar so you don&#39\;t lose your 5% discount!<br />\n	Sign-up your employees for <span style="color: #ff0000">FREE</span> safety training!<br />\n	Tuesday\, May 3\, 2011 from 10am-12pm<br />\n	Location: Carlisle Syntec\, Inc.<br />\n	1600 B Ave.\, Tooele\, Utah 84074<br />\n	Attendees will be able to attend the 2 classes during the session. You are welcome to send as many employees as you would like to the training.<br />\n	<br />\n	2 Training Sessions -<br />\n	Fall Safety Training<br />\n	Hand and Welding Helmet Safety Training<br />\n	<br />\n	This session qualifies for credit with the WCF Discount Program<br />\n	You are welcome to attend even if you are not insured with the Workers Comp Fund<br />\n	<br />\n	Lunch will be served!<br />\n	Register today with Teresa Thomas at 801-363-3885 or by email <a href="mailto:teresa@umaweb.org">teresa@umaweb.org</a></p>\n
LOCATION:
UID:e.125.3679
SEQUENCE:3
DTSTAMP:20260422T090945Z
URL:https://members.tooelechamber.com/events/details/may-safety-training-uma-05-03-2011-3679
END:VEVENT

END:VCALENDAR
