BEGIN:VCALENDAR
VERSION:2.0
PRODID:-//ChamberMaster//Event Calendar 2.0//EN
METHOD:PUBLISH
X-PUBLISHED-TTL:P3D
REFRESH-INTERVAL:P3D
CALSCALE:GREGORIAN
BEGIN:VEVENT
DTSTART:20111027T010000Z
DTEND:20111027T023000Z
X-MICROSOFT-CDO-ALLDAYEVENT:FALSE
SUMMARY:Meet the Candidate Night
DESCRIPTION:Meet the Candidate Night \n\n	Wednesday\, October 26\, 2011 @ 7pm\n\n	Location: Community Learning Center\n\n	211 South Tooele Blvd\, Tooele
X-ALT-DESC;FMTTYPE=text/html:<p style="text-align: center">\n	<span style="font-size: 28px"><u><strong>Meet the Candidate Night </strong></u><br />\n	Wednesday\, October 26\, 2011 @ 7pm<br />\n	Location: Community Learning Center<br />\n	211 South Tooele Blvd\, Tooele </span></p>\n
LOCATION:
UID:e.125.3885
SEQUENCE:3
DTSTAMP:20260422T012003Z
URL:https://members.tooelechamber.com/events/details/meet-the-candidate-night-10-26-2011-3885
END:VEVENT

END:VCALENDAR
