BEGIN:VCALENDAR
VERSION:2.0
PRODID:-//ChamberMaster//Event Calendar 2.0//EN
METHOD:PUBLISH
X-PUBLISHED-TTL:P3D
REFRESH-INTERVAL:P3D
CALSCALE:GREGORIAN
BEGIN:VEVENT
DTSTART;VALUE=DATE:20100515
DTEND;VALUE=DATE:20100517
TRANSP:TRANSPARENT
X-MICROSOFT-CDO-ALLDAYEVENT:TRUE
SUMMARY:Miller Motor Sports Park (American LeMans Series.)
DESCRIPTION:May 15th-16th    Miller Motor Sports Park   (American LeMans Series.)  Larry H. Miller Dealerships Utah Grand PrixContact: toll free 866-297-2636www.MillerMotorPark.com
X-ALT-DESC;FMTTYPE=text/html:<div><p class="MsoNormal" style="margin: 0in 0in 0pt"><span style="font-size: 14pt"><font face="Times New Roman">May 15<sup>th</sup>-16<sup>th</sup><span style="mso-spacerun: yes">&nbsp\;&nbsp\;&nbsp\; </span><st1:place w:st="on"><st1:placename w:st="on">Miller</st1:placename> <st1:placename w:st="on">Motor</st1:placename> <st1:placename w:st="on">Sports</st1:placename> <st1:placetype w:st="on">Park</st1:placetype></st1:place> <span style="mso-spacerun: yes">&nbsp\;</span><span style="mso-spacerun: yes">&nbsp\;</span>(American LeMans Series.)<span style="mso-spacerun: yes">&nbsp\; </span>Larry H. Miller Dealerships <st1:place w:st="on"><st1:state w:st="on">Utah</st1:state></st1:place> Grand Prix<o:p></o:p></font></span></p><p class="MsoNormal" style="margin: 0in 0in 0pt"><span style="font-size: 14pt"><font face="Times New Roman">Contact: toll free 866-297-2636<o:p></o:p></font></span></p><p class="MsoNormal" style="margin: 0in 0in 0pt"><span style="font-size: 14pt"><a href="http://www.millermotorpark.com/"><font face="Times New Roman">www.MillerMotorPark.com</font></a><o:p></o:p></span></p></div>
LOCATION:
UID:e.125.2596
SEQUENCE:3
DTSTAMP:20260423T045003Z
URL:https://members.tooelechamber.com/events/details/miller-motor-sports-park-american-lemans-series-05-15-2010-2596
END:VEVENT

END:VCALENDAR
