BEGIN:VCALENDAR
VERSION:2.0
PRODID:-//ChamberMaster//Event Calendar 2.0//EN
METHOD:PUBLISH
X-PUBLISHED-TTL:P3D
REFRESH-INTERVAL:P3D
CALSCALE:GREGORIAN
BEGIN:VEVENT
DTSTART;VALUE=DATE:20080404
DTEND;VALUE=DATE:20080407
TRANSP:TRANSPARENT
X-MICROSOFT-CDO-ALLDAYEVENT:TRUE
SUMMARY:Miller Park Racing Association Round 1
DESCRIPTION:Racing Association Round 1IceBreaker Kart Championship Round 2
X-ALT-DESC;FMTTYPE=text/html:<div>Racing Association Round 1</div><div>IceBreaker Kart Championship Round 2&nbsp\;</div>
LOCATION:Miller Motorsports Park2901 N Sheep LaneTooele
UID:e.125.241
SEQUENCE:3
DTSTAMP:20260424T203532Z
URL:https://members.tooelechamber.com/events/details/miller-park-racing-association-round-1-04-04-2008-241
END:VEVENT

END:VCALENDAR
