BEGIN:VCALENDAR
VERSION:2.0
PRODID:-//ChamberMaster//Event Calendar 2.0//EN
METHOD:PUBLISH
X-PUBLISHED-TTL:P3D
REFRESH-INTERVAL:P3D
CALSCALE:GREGORIAN
BEGIN:VEVENT
DTSTART:20120630T010000Z
DTEND:20120630T020000Z
X-MICROSOFT-CDO-ALLDAYEVENT:FALSE
SUMMARY:Miss Tooele Pageant.
DESCRIPTION:Tooele City Pageant..\n\n\n\nBeing held at Tooele High School Auditorium\,\n\n\n\n7pm.
X-ALT-DESC;FMTTYPE=text/html:<span style="font-size: 20px"><strong><u>Tooele City&nbsp\;Pageant..</u><br />\n<br />\nBeing held at Tooele High School Auditorium\,<br />\n<br />\n7pm.</strong></span>
LOCATION:
UID:e.125.4861
SEQUENCE:3
DTSTAMP:20260421T122305Z
URL:https://members.tooelechamber.com/events/details/miss-tooele-pageant-06-29-2012-4861
END:VEVENT

END:VCALENDAR
