BEGIN:VCALENDAR
VERSION:2.0
PRODID:-//ChamberMaster//Event Calendar 2.0//EN
METHOD:PUBLISH
X-PUBLISHED-TTL:P3D
REFRESH-INTERVAL:P3D
CALSCALE:GREGORIAN
BEGIN:VEVENT
DTSTART:20120103T003000Z
DTEND:20120103T023000Z
X-MICROSOFT-CDO-ALLDAYEVENT:FALSE
SUMMARY:Miss Utah Community Appreciation Open House
DESCRIPTION:Miss Utah Community Appreciation Open House\n\n	Tooele's Own Danica Olsen is going to Miss America\n\n	@ Hampton Inn\n\n	461 South Main Street\, Tooele\n\n	Live Music\, Light Refreshments\, & Pictures\n\n	 5:30pm-7:30pm
X-ALT-DESC;FMTTYPE=text/html:<p style="text-align: center">\n	<span style="font-size: 16px"><span style="font-size: 18px"><strong>Miss Utah Community Appreciation Open House<br />\n	<span style="font-size: 12px">Tooele&#39\;s Own Danica Olsen is going to Miss America</span><br />\n	@ Hampton Inn<br />\n	461 South Main Street\, Tooele<br />\n	<span style="font-size: 12px">Live Music\, Light&nbsp\;Refreshments\, &amp\;&nbsp\;Pictures</span><br />\n	&nbsp\;5:30pm-7:30pm</strong></span></span><br />\n	<br />\n	&nbsp\;</p>\n
LOCATION:
UID:e.125.3950
SEQUENCE:3
DTSTAMP:20260421T203404Z
URL:https://members.tooelechamber.com/events/details/miss-utah-community-appreciation-open-house-01-02-2012-3950
END:VEVENT

END:VCALENDAR
