BEGIN:VCALENDAR
VERSION:2.0
PRODID:-//ChamberMaster//Event Calendar 2.0//EN
METHOD:PUBLISH
X-PUBLISHED-TTL:P3D
REFRESH-INTERVAL:P3D
CALSCALE:GREGORIAN
BEGIN:VEVENT
DTSTART:20140528T180000Z
DTEND:20140528T190000Z
X-MICROSOFT-CDO-ALLDAYEVENT:FALSE
SUMMARY:Mountain America Credit Union Luncheon
DESCRIPTION:Luncheon
X-ALT-DESC;FMTTYPE=text/html:Luncheon&nbsp\;&nbsp\;
LOCATION:Chamber Office 154 South Main Street\, Tooele UT 84074
UID:e.125.5079
SEQUENCE:3
DTSTAMP:20260419T183546Z
URL:https://members.tooelechamber.com/events/details/mountain-america-credit-union-luncheon-05-28-2014-5079
END:VEVENT

END:VCALENDAR
