BEGIN:VCALENDAR
VERSION:2.0
PRODID:-//ChamberMaster//Event Calendar 2.0//EN
METHOD:PUBLISH
X-PUBLISHED-TTL:P3D
REFRESH-INTERVAL:P3D
CALSCALE:GREGORIAN
BEGIN:VEVENT
DTSTART:20140425T170000Z
DTEND:20140425T180000Z
X-MICROSOFT-CDO-ALLDAYEVENT:FALSE
SUMMARY:Mountain America Credit Union Stansbury Ribbon Cutting
DESCRIPTION:Ribbon Cutting
X-ALT-DESC;FMTTYPE=text/html:<font color="#ff0000" face="calibri\, sans-serif"><span style="font-size: 19px\; line-height: 29.86666488647461px\;">Ribbon Cutting</span></font>
LOCATION:6811 North State Hwy. 36 Stansbury\, UT 84074
UID:e.125.5073
SEQUENCE:3
DTSTAMP:20260419T201119Z
URL:https://members.tooelechamber.com/events/details/mountain-america-credit-union-stansbury-ribbon-cutting-04-25-2014-5073
END:VEVENT

END:VCALENDAR
