BEGIN:VCALENDAR
VERSION:2.0
PRODID:-//ChamberMaster//Event Calendar 2.0//EN
METHOD:PUBLISH
X-PUBLISHED-TTL:P3D
REFRESH-INTERVAL:P3D
CALSCALE:GREGORIAN
BEGIN:VEVENT
DTSTART:20090807T170000Z
DTEND:20090807T200000Z
X-MICROSOFT-CDO-ALLDAYEVENT:FALSE
SUMMARY:Mountainside Title Open House
DESCRIPTION:Friday August 7th 11 am- 2 pmMountainside Title71 East 1280 North We will be serving hamburgers\, hotdogs\,and homemade rootbeer floats!
X-ALT-DESC;FMTTYPE=text/html:<div><div><div style="text-align: center"><span style="font-size: medium">Friday August 7th </span></div><div style="text-align: center"><span style="font-size: medium">11 am- 2 pm</span></div></div><div><div style="text-align: center"><span style="color: #ff0000"><span style="font-size: medium">Mountainside Title</span></span></div><div style="text-align: center"><span style="font-size: medium"><span style="font-family: &rsquo\;Arial&rsquo\;\,&rsquo\;sans-serif&rsquo\;">71 East 1280 North</span></span></div></div><div><div style="text-align: center"><span style="font-size: medium">&nbsp\;</span></div></div><div><div style="text-align: center"><span style="font-size: medium">We will be serving hamburgers\, hotdogs\,</span></div><div style="text-align: center"><span style="font-size: medium">and homemade rootbeer floats!</span></div></div></div>
LOCATION:
UID:e.125.2548
SEQUENCE:3
DTSTAMP:20260423T181554Z
URL:https://members.tooelechamber.com/events/details/mountainside-title-open-house-08-07-2009-2548
END:VEVENT

END:VCALENDAR
